BEGIN:VCALENDAR
VERSION:2.0
PRODID:-//Bombzies - ECPv6.2.3//NONSGML v1.0//EN
CALSCALE:GREGORIAN
METHOD:PUBLISH
X-ORIGINAL-URL:https://thebombziesbbq.com
X-WR-CALDESC:Events for Bombzies
REFRESH-INTERVAL;VALUE=DURATION:PT1H
X-Robots-Tag:noindex
X-PUBLISHED-TTL:PT1H
BEGIN:VTIMEZONE
TZID:Africa/Abidjan
BEGIN:STANDARD
TZOFFSETFROM:+0000
TZOFFSETTO:+0000
TZNAME:GMT
DTSTART:20240101T000000
END:STANDARD
END:VTIMEZONE
BEGIN:VEVENT
DTSTART;TZID=Africa/Abidjan:20240515T110000
DTEND;TZID=Africa/Abidjan:20240515T133000
DTSTAMP:20260419T125120
CREATED:20240412T090759Z
LAST-MODIFIED:20240412T090759Z
UID:10000173-1715770800-1715779800@thebombziesbbq.com
SUMMARY:SAP Center
DESCRIPTION:Time: 9:45 am Staff will need to check in with security team prior to service. \nService time : 11:00 am  – 1:35 pm Dates : Tues Weds and Thursday’sLocation : 3410 Hillview Ave.\, Palo Alto\, CA 94304 \nEvent Type: Catering  \nBudget: $15 per person \nGtd Units : 100 per day Gtd Units : May serve up to 115 units with FF approval  \nMenu : (Entrée+ Side) Trucks will offer two menu items\, and shall focus on extremely quick service of thirty seconds or less. Scoop and serve style menu preferred.Menus will be submitted via Menu Partner Workbook that Maya will share once confirmed for the shift.
URL:https://thebombziesbbq.com/event/sap-center-2/
LOCATION:3410 Hillview Ave\, Palo Alto\, CA 94304\, USA
ORGANIZER;CN="unknownorganizer@calendar.google.com":MAILTO:unknownorganizer@calendar_google_com
END:VEVENT
BEGIN:VEVENT
DTSTART;TZID=Africa/Abidjan:20240515T170000
DTEND;TZID=Africa/Abidjan:20240515T210000
DTSTAMP:20260419T125120
CREATED:20240416T102106Z
LAST-MODIFIED:20240416T102106Z
UID:10000182-1715792400-1715806800@thebombziesbbq.com
SUMMARY:Foodie crew Brentwood
DESCRIPTION:
URL:https://thebombziesbbq.com/event/foodie-crew-brentwood-2/
ORGANIZER;CN="unknownorganizer@calendar.google.com":MAILTO:unknownorganizer@calendar_google_com
END:VEVENT
END:VCALENDAR