BEGIN:VCALENDAR
VERSION:2.0
PRODID:-//Bombzies - ECPv6.2.3//NONSGML v1.0//EN
CALSCALE:GREGORIAN
METHOD:PUBLISH
X-WR-CALNAME:Bombzies
X-ORIGINAL-URL:https://thebombziesbbq.com
X-WR-CALDESC:Events for Bombzies
REFRESH-INTERVAL;VALUE=DURATION:PT1H
X-Robots-Tag:noindex
X-PUBLISHED-TTL:PT1H
BEGIN:VTIMEZONE
TZID:Africa/Abidjan
BEGIN:STANDARD
TZOFFSETFROM:+0000
TZOFFSETTO:+0000
TZNAME:GMT
DTSTART:20240101T000000
END:STANDARD
END:VTIMEZONE
BEGIN:VEVENT
DTSTART;TZID=Africa/Abidjan:20240619T110000
DTEND;TZID=Africa/Abidjan:20240619T130000
DTSTAMP:20260421T082018
CREATED:20240613T235132Z
LAST-MODIFIED:20240613T235132Z
UID:10000239-1718794800-1718802000@thebombziesbbq.com
SUMMARY:Chevron private
DESCRIPTION:Venue Name: Chevron Park – San Ramon \nEvent Location: 6001 Bollinger Canyon San Ramon\,CA \nFood Fleet Event Type: Catering  \nNumber of Trucks Desired: 1 Savory \nLoad-in Time: 10:00 am  \nEvent Start Time: 11:00 am  \nEvent End Time: 1:00 pm \nGuaranteed Portions per Truck: 100 (50 overages are allowed for 150 portions in total) \nMeal Type: Full Meal with Drink and Dessert (Entree + Side + Drink + Dessert) \nMenu Notes: Vegetarian/Vegan Options available; Must call out allergens \nFOODQtyPriceTotal100Meat Options: Korean Bowl or Teriyaki Bowl \nVegetarian Option: Substitute with Tofu \nDrink: Water \nDessert: Brownie or Cookie$15.00$1\,500.00
URL:https://thebombziesbbq.com/event/chevron-private/
LOCATION:Chevron\, 6001 Bollinger Canyon Rd\, San Ramon\, CA 94583\, USA
ORGANIZER;CN="nick@foodfleet.com":MAILTO:nick@foodfleet_com
END:VEVENT
END:VCALENDAR