BEGIN:VCALENDAR
VERSION:2.0
PRODID:-//Bombzies - ECPv6.2.3//NONSGML v1.0//EN
CALSCALE:GREGORIAN
METHOD:PUBLISH
X-ORIGINAL-URL:https://thebombziesbbq.com
X-WR-CALDESC:Events for Bombzies
REFRESH-INTERVAL;VALUE=DURATION:PT1H
X-Robots-Tag:noindex
X-PUBLISHED-TTL:PT1H
BEGIN:VTIMEZONE
TZID:Africa/Abidjan
BEGIN:STANDARD
TZOFFSETFROM:+0000
TZOFFSETTO:+0000
TZNAME:GMT
DTSTART:20240101T000000
END:STANDARD
END:VTIMEZONE
BEGIN:VEVENT
DTSTART;TZID=Africa/Abidjan:20240627T170000
DTEND;TZID=Africa/Abidjan:20240627T200000
DTSTAMP:20260421T181249
CREATED:20240326T084919Z
LAST-MODIFIED:20240326T084919Z
UID:10000151-1719507600-1719518400@thebombziesbbq.com
SUMMARY:City of orinda dinner
DESCRIPTION:
URL:https://thebombziesbbq.com/event/city-of-orinda-dinner-2/
LOCATION:28 Orinda Way\, Orinda\, CA 94563\, USA
ORGANIZER;CN="unknownorganizer@calendar.google.com":MAILTO:unknownorganizer@calendar_google_com
END:VEVENT
END:VCALENDAR