BEGIN:VCALENDAR
VERSION:2.0
PRODID:-//Bombzies - ECPv6.2.3//NONSGML v1.0//EN
CALSCALE:GREGORIAN
METHOD:PUBLISH
X-WR-CALNAME:Bombzies
X-ORIGINAL-URL:https://thebombziesbbq.com
X-WR-CALDESC:Events for Bombzies
REFRESH-INTERVAL;VALUE=DURATION:PT1H
X-Robots-Tag:noindex
X-PUBLISHED-TTL:PT1H
BEGIN:VTIMEZONE
TZID:Africa/Abidjan
BEGIN:STANDARD
TZOFFSETFROM:+0000
TZOFFSETTO:+0000
TZNAME:GMT
DTSTART:20250101T000000
END:STANDARD
END:VTIMEZONE
BEGIN:VEVENT
DTSTART;TZID=Africa/Abidjan:20250417T100000
DTEND;TZID=Africa/Abidjan:20250417T130000
DTSTAMP:20260423T194102
CREATED:20250410T214913Z
LAST-MODIFIED:20250410T214913Z
UID:10000702-1744884000-1744894800@thebombziesbbq.com
SUMMARY:Intuitive surgical site b
DESCRIPTION:
URL:https://thebombziesbbq.com/event/intuitive-surgical-site-b/
ORGANIZER;CN="contracostahealth@cchealth.org":MAILTO:contracostahealth@cchealth_org
END:VEVENT
BEGIN:VEVENT
DTSTART;TZID=Africa/Abidjan:20250417T163000
DTEND;TZID=Africa/Abidjan:20250417T193000
DTSTAMP:20260423T194102
CREATED:20250305T015056Z
LAST-MODIFIED:20250305T015056Z
UID:10000412-1744907400-1744918200@thebombziesbbq.com
SUMMARY:TikTok BOMB Din
DESCRIPTION:
URL:https://thebombziesbbq.com/event/tiktok-bomb-din-26/
ORGANIZER;CN="contracostahealth@cchealth.org":MAILTO:contracostahealth@cchealth_org
END:VEVENT
BEGIN:VEVENT
DTSTART;TZID=Africa/Abidjan:20250417T170000
DTEND;TZID=Africa/Abidjan:20250417T210000
DTSTAMP:20260423T194102
CREATED:20250327T195105Z
LAST-MODIFIED:20250327T195105Z
UID:10000667-1744909200-1744923600@thebombziesbbq.com
SUMMARY:OTG PHILL
DESCRIPTION:
URL:https://thebombziesbbq.com/event/otg-phill-2/
ORGANIZER;CN="contracostahealth@cchealth.org":MAILTO:contracostahealth@cchealth_org
END:VEVENT
END:VCALENDAR