BEGIN:VCALENDAR
VERSION:2.0
PRODID:-//Bombzies - ECPv6.2.3//NONSGML v1.0//EN
CALSCALE:GREGORIAN
METHOD:PUBLISH
X-WR-CALNAME:Bombzies
X-ORIGINAL-URL:https://thebombziesbbq.com
X-WR-CALDESC:Events for Bombzies
REFRESH-INTERVAL;VALUE=DURATION:PT1H
X-Robots-Tag:noindex
X-PUBLISHED-TTL:PT1H
BEGIN:VTIMEZONE
TZID:Africa/Abidjan
BEGIN:STANDARD
TZOFFSETFROM:+0000
TZOFFSETTO:+0000
TZNAME:GMT
DTSTART:20250101T000000
END:STANDARD
END:VTIMEZONE
BEGIN:VEVENT
DTSTART;TZID=Africa/Abidjan:20250513T100000
DTEND;TZID=Africa/Abidjan:20250513T110000
DTSTAMP:20260423T211048
CREATED:20250509T205109Z
LAST-MODIFIED:20250509T205109Z
UID:10000736-1747130400-1747134000@thebombziesbbq.com
SUMMARY:Catering Request
DESCRIPTION:To see detailed information for automatically created events like this one\, use the official Google Calendar app. https://g.co/calendar \nThis event was created from an email you received in Gmail. https://mail.google.com/mail?extsrc=cal&plid=ACUX6DNwLU6xDXVItWubLDz273rKiJ8CjxOnh8s
URL:https://thebombziesbbq.com/event/catering-request/
LOCATION:Hayward\, California
ORGANIZER;CN="contracostahealth@cchealth.org":MAILTO:contracostahealth@cchealth_org
END:VEVENT
BEGIN:VEVENT
DTSTART;TZID=Africa/Abidjan:20250513T113000
DTEND;TZID=Africa/Abidjan:20250513T133000
DTSTAMP:20260423T211048
CREATED:20250422T215012Z
LAST-MODIFIED:20250422T215012Z
UID:10000713-1747135800-1747143000@thebombziesbbq.com
SUMMARY:FTM PRIVATE
DESCRIPTION:
URL:https://thebombziesbbq.com/event/ftm-private-5/
LOCATION:Washington Hospital\, 2000 Mowry Ave\, Fremont\, CA 94536\, USA
ORGANIZER;CN="contracostahealth@cchealth.org":MAILTO:contracostahealth@cchealth_org
END:VEVENT
BEGIN:VEVENT
DTSTART;TZID=Africa/Abidjan:20250513T163000
DTEND;TZID=Africa/Abidjan:20250513T193000
DTSTAMP:20260423T211048
CREATED:20250305T015059Z
LAST-MODIFIED:20250305T015059Z
UID:10000430-1747153800-1747164600@thebombziesbbq.com
SUMMARY:TikTok BOMB Din
DESCRIPTION:
URL:https://thebombziesbbq.com/event/tiktok-bomb-din-40/
ORGANIZER;CN="contracostahealth@cchealth.org":MAILTO:contracostahealth@cchealth_org
END:VEVENT
END:VCALENDAR