BEGIN:VCALENDAR
VERSION:2.0
PRODID:-//Bombzies - ECPv6.2.3//NONSGML v1.0//EN
CALSCALE:GREGORIAN
METHOD:PUBLISH
X-ORIGINAL-URL:https://thebombziesbbq.com
X-WR-CALDESC:Events for Bombzies
REFRESH-INTERVAL;VALUE=DURATION:PT1H
X-Robots-Tag:noindex
X-PUBLISHED-TTL:PT1H
BEGIN:VTIMEZONE
TZID:Africa/Abidjan
BEGIN:STANDARD
TZOFFSETFROM:+0000
TZOFFSETTO:+0000
TZNAME:GMT
DTSTART:20250101T000000
END:STANDARD
END:VTIMEZONE
BEGIN:VEVENT
DTSTART;TZID=Africa/Abidjan:20250516T101500
DTEND;TZID=Africa/Abidjan:20250516T141500
DTSTAMP:20260423T211108
CREATED:20250423T104943Z
LAST-MODIFIED:20250423T104943Z
UID:10000716-1747390500-1747404900@thebombziesbbq.com
SUMMARY:JAKE 3 trucks lunch
DESCRIPTION:
URL:https://thebombziesbbq.com/event/jake-3-trucks-lunch/
ORGANIZER;CN="contracostahealth@cchealth.org":MAILTO:contracostahealth@cchealth_org
END:VEVENT
BEGIN:VEVENT
DTSTART;TZID=Africa/Abidjan:20250516T150000
DTEND;TZID=Africa/Abidjan:20250516T173000
DTSTAMP:20260423T211108
CREATED:20250305T015059Z
LAST-MODIFIED:20250305T015059Z
UID:10000433-1747407600-1747416600@thebombziesbbq.com
SUMMARY:TikTok TeaTime
DESCRIPTION:
URL:https://thebombziesbbq.com/event/tiktok-teatime-11/
ORGANIZER;CN="contracostahealth@cchealth.org":MAILTO:contracostahealth@cchealth_org
END:VEVENT
BEGIN:VEVENT
DTSTART;TZID=Africa/Abidjan:20250516T170000
DTEND;TZID=Africa/Abidjan:20250516T210000
DTSTAMP:20260423T211108
CREATED:20250422T225025Z
LAST-MODIFIED:20250422T225025Z
UID:10000714-1747414800-1747429200@thebombziesbbq.com
SUMMARY:OMCA OTG
DESCRIPTION:
URL:https://thebombziesbbq.com/event/omca-otg-20/
LOCATION:Oakland Museum of California\, 1000 Oak St\, Oakland\, CA 94607\, USA
ORGANIZER;CN="contracostahealth@cchealth.org":MAILTO:contracostahealth@cchealth_org
END:VEVENT
END:VCALENDAR