BEGIN:VCALENDAR
VERSION:2.0
PRODID:-//Bombzies - ECPv6.2.3//NONSGML v1.0//EN
CALSCALE:GREGORIAN
METHOD:PUBLISH
X-WR-CALNAME:Bombzies
X-ORIGINAL-URL:https://thebombziesbbq.com
X-WR-CALDESC:Events for Bombzies
REFRESH-INTERVAL;VALUE=DURATION:PT1H
X-Robots-Tag:noindex
X-PUBLISHED-TTL:PT1H
BEGIN:VTIMEZONE
TZID:Africa/Abidjan
BEGIN:STANDARD
TZOFFSETFROM:+0000
TZOFFSETTO:+0000
TZNAME:GMT
DTSTART:20250101T000000
END:STANDARD
END:VTIMEZONE
BEGIN:VEVENT
DTSTART;TZID=Africa/Abidjan:20250520T110000
DTEND;TZID=Africa/Abidjan:20250520T133000
DTSTAMP:20260423T211257
CREATED:20250403T165443Z
LAST-MODIFIED:20250403T165443Z
UID:10000687-1747738800-1747747800@thebombziesbbq.com
SUMMARY:Stadium Tech
DESCRIPTION:200Gyros (Falafel | Lamb| Chicken) 16 oz Warm pita bread filled with your choice of tender\, seasoned lamb\, grilled chicken\, or crispy falafel. Each wrap includes fresh spring mix\, juicy tomatoes\, onions\, cucumbers\, and creamy house white sauce. Served with a side of French fries. Allergens: Dairy
URL:https://thebombziesbbq.com/event/stadium-tech-3/
LOCATION:5490 Great America Pkwy\, Santa Clara\, CA 95054\, USA
ORGANIZER;CN="contracostahealth@cchealth.org":MAILTO:contracostahealth@cchealth_org
END:VEVENT
BEGIN:VEVENT
DTSTART;TZID=Africa/Abidjan:20250520T163000
DTEND;TZID=Africa/Abidjan:20250520T193000
DTSTAMP:20260423T211257
CREATED:20250305T015059Z
LAST-MODIFIED:20250305T015059Z
UID:10000435-1747758600-1747769400@thebombziesbbq.com
SUMMARY:TikTok BOMB Din
DESCRIPTION:
URL:https://thebombziesbbq.com/event/tiktok-bomb-din-44/
ORGANIZER;CN="contracostahealth@cchealth.org":MAILTO:contracostahealth@cchealth_org
END:VEVENT
END:VCALENDAR