BEGIN:VCALENDAR
VERSION:2.0
PRODID:-//Bombzies - ECPv6.2.3//NONSGML v1.0//EN
CALSCALE:GREGORIAN
METHOD:PUBLISH
X-WR-CALNAME:Bombzies
X-ORIGINAL-URL:https://thebombziesbbq.com
X-WR-CALDESC:Events for Bombzies
REFRESH-INTERVAL;VALUE=DURATION:PT1H
X-Robots-Tag:noindex
X-PUBLISHED-TTL:PT1H
BEGIN:VTIMEZONE
TZID:Africa/Abidjan
BEGIN:STANDARD
TZOFFSETFROM:+0000
TZOFFSETTO:+0000
TZNAME:GMT
DTSTART:20250101T000000
END:STANDARD
END:VTIMEZONE
BEGIN:VEVENT
DTSTART;TZID=Africa/Abidjan:20250528T100000
DTEND;TZID=Africa/Abidjan:20250528T130000
DTSTAMP:20260423T211256
CREATED:20250327T195106Z
LAST-MODIFIED:20250327T195106Z
UID:10000674-1748426400-1748437200@thebombziesbbq.com
SUMMARY:Intuitive Surgical site c
DESCRIPTION:All items are served with a side of Kimchi spring salad* \nCoconut Thai Curry Tofu (16 oz\, Vegan\, Vegetarian) \nThai Coconut Curry Tofu over jasmine rice\, served with a fresh spring salad and kimchi. Enjoy the rich\, creamy curry with a hint of spice. \nBBQ Chicken Rice Bowls (16 oz) \nBowl of Jasmine rice with charbroiled chicken and green onions. \nGuaranteed Minimum: $1\,500.00  \nCommission: 15% of net sales (before tax and tip) or guaranteed minimum (whichever is higher). If total sales exceed $2000\, commission shall increase to 20%.  \nPlease only allow TWO meals per person\, while a line is present. \nYou MAY allow more than two meals per person if there is NO LINE.  \nService Notes: This is a high-volume account. It is recommended to arrive on-site with a minimum of 200 meals. Most partners serve between 200-300 meals.  \nPayment: Guests will pay trucks $5 all-inclusive at the time of ordering and the client will subsidize the remaining $10 for a total of $15 per meal all inclusive (entrée+ side only\, no drinks in this price). If guests would like to purchase drinks this will be handled separately. \nPOS Report – Please send your sales report to Arielle (arielle@foodfleet.com) or Jessica (jessica@foodfleet.com) after each shift.
URL:https://thebombziesbbq.com/event/intuitive-surgical-site-c-5/
ORGANIZER;CN="contracostahealth@cchealth.org":MAILTO:contracostahealth@cchealth_org
END:VEVENT
BEGIN:VEVENT
DTSTART;TZID=Africa/Abidjan:20250528T163000
DTEND;TZID=Africa/Abidjan:20250528T193000
DTSTAMP:20260423T211256
CREATED:20250305T015100Z
LAST-MODIFIED:20250305T015100Z
UID:10000441-1748449800-1748460600@thebombziesbbq.com
SUMMARY:TikTok BOMB Din
DESCRIPTION:
URL:https://thebombziesbbq.com/event/tiktok-bomb-din-49/
ORGANIZER;CN="contracostahealth@cchealth.org":MAILTO:contracostahealth@cchealth_org
END:VEVENT
END:VCALENDAR