BEGIN:VCALENDAR
VERSION:2.0
PRODID:-//Bombzies - ECPv6.2.3//NONSGML v1.0//EN
CALSCALE:GREGORIAN
METHOD:PUBLISH
X-ORIGINAL-URL:https://thebombziesbbq.com
X-WR-CALDESC:Events for Bombzies
REFRESH-INTERVAL;VALUE=DURATION:PT1H
X-Robots-Tag:noindex
X-PUBLISHED-TTL:PT1H
BEGIN:VTIMEZONE
TZID:Africa/Abidjan
BEGIN:STANDARD
TZOFFSETFROM:+0000
TZOFFSETTO:+0000
TZNAME:GMT
DTSTART:20250101T000000
END:STANDARD
END:VTIMEZONE
BEGIN:VEVENT
DTSTART;TZID=Africa/Abidjan:20250624T113000
DTEND;TZID=Africa/Abidjan:20250624T133000
DTSTAMP:20260423T223534
CREATED:20250618T024924Z
LAST-MODIFIED:20250618T024924Z
UID:10000790-1750764600-1750771800@thebombziesbbq.com
SUMMARY:Zynga
DESCRIPTION:
URL:https://thebombziesbbq.com/event/zynga-2/
ORGANIZER;CN="contracostahealth@cchealth.org":MAILTO:contracostahealth@cchealth_org
END:VEVENT
BEGIN:VEVENT
DTSTART;TZID=Africa/Abidjan:20250624T163000
DTEND;TZID=Africa/Abidjan:20250624T193000
DTSTAMP:20260423T223534
CREATED:20250305T015102Z
LAST-MODIFIED:20250305T015102Z
UID:10000460-1750782600-1750793400@thebombziesbbq.com
SUMMARY:TikTok BOMB Din
DESCRIPTION:
URL:https://thebombziesbbq.com/event/tiktok-bomb-din-64/
ORGANIZER;CN="contracostahealth@cchealth.org":MAILTO:contracostahealth@cchealth_org
END:VEVENT
END:VCALENDAR