BEGIN:VCALENDAR
VERSION:2.0
PRODID:-//Bombzies - ECPv6.2.3//NONSGML v1.0//EN
CALSCALE:GREGORIAN
METHOD:PUBLISH
X-WR-CALNAME:Bombzies
X-ORIGINAL-URL:https://thebombziesbbq.com
X-WR-CALDESC:Events for Bombzies
REFRESH-INTERVAL;VALUE=DURATION:PT1H
X-Robots-Tag:noindex
X-PUBLISHED-TTL:PT1H
BEGIN:VTIMEZONE
TZID:Africa/Abidjan
BEGIN:STANDARD
TZOFFSETFROM:+0000
TZOFFSETTO:+0000
TZNAME:GMT
DTSTART:20250101T000000
END:STANDARD
END:VTIMEZONE
BEGIN:VEVENT
DTSTART;VALUE=DATE:20250822
DTEND;VALUE=DATE:20250823
DTSTAMP:20260424T001144
CREATED:20250813T165024Z
LAST-MODIFIED:20250813T165024Z
UID:10000846-1755820800-1755907199@thebombziesbbq.com
SUMMARY:Intuitive site A
DESCRIPTION:
URL:https://thebombziesbbq.com/event/intuitive-site-a/
ORGANIZER;CN="contracostahealth@cchealth.org":MAILTO:contracostahealth@cchealth_org
END:VEVENT
BEGIN:VEVENT
DTSTART;TZID=Africa/Abidjan:20250822T150000
DTEND;TZID=Africa/Abidjan:20250822T173000
DTSTAMP:20260424T001144
CREATED:20250305T015107Z
LAST-MODIFIED:20250305T015107Z
UID:10000503-1755874800-1755883800@thebombziesbbq.com
SUMMARY:TikTok TeaTime
DESCRIPTION:
URL:https://thebombziesbbq.com/event/tiktok-teatime-25/
ORGANIZER;CN="contracostahealth@cchealth.org":MAILTO:contracostahealth@cchealth_org
END:VEVENT
BEGIN:VEVENT
DTSTART;TZID=Africa/Abidjan:20250822T170000
DTEND;TZID=Africa/Abidjan:20250822T210000
DTSTAMP:20260424T001144
CREATED:20250614T094931Z
LAST-MODIFIED:20250614T094931Z
UID:10000784-1755882000-1755896400@thebombziesbbq.com
SUMMARY:OMCA OTG
DESCRIPTION:
URL:https://thebombziesbbq.com/event/omca-otg-25/
LOCATION:Oakland Museum of California\, 1000 Oak St\, Oakland\, CA 94607\, USA
ORGANIZER;CN="contracostahealth@cchealth.org":MAILTO:contracostahealth@cchealth_org
END:VEVENT
END:VCALENDAR