BEGIN:VCALENDAR
VERSION:2.0
PRODID:-//Bombzies - ECPv6.2.3//NONSGML v1.0//EN
CALSCALE:GREGORIAN
METHOD:PUBLISH
X-ORIGINAL-URL:https://thebombziesbbq.com
X-WR-CALDESC:Events for Bombzies
REFRESH-INTERVAL;VALUE=DURATION:PT1H
X-Robots-Tag:noindex
X-PUBLISHED-TTL:PT1H
BEGIN:VTIMEZONE
TZID:Africa/Abidjan
BEGIN:STANDARD
TZOFFSETFROM:+0000
TZOFFSETTO:+0000
TZNAME:GMT
DTSTART:20250101T000000
END:STANDARD
END:VTIMEZONE
BEGIN:VEVENT
DTSTART;TZID=Africa/Abidjan:20251203T110000
DTEND;TZID=Africa/Abidjan:20251203T140000
DTSTAMP:20260424T184330
CREATED:20251125T215957Z
LAST-MODIFIED:20251125T215957Z
UID:10000965-1764759600-1764770400@thebombziesbbq.com
SUMMARY:FTM Private
DESCRIPTION:Date: December 3rdTime of Event: 11:00-2:00\, must arrive by 10:00 and send Michele a photo when arrived to avoid the late fee. Address: The Bridge Yard 210 Burma Rd\, OaklandGuaranteed: 116 tickets @ $20 per ticket. Each ticket is worth a Meal and Beverage. MUST STOP SERVING ONCE REACHED GUARANTEED AMOUNT.  Must submit an invoice to FTM and then you will be paid by check mailed to you. Tax must be included in your cost per person. NOT on the invoice.Fee: 10% of total sales.
URL:https://thebombziesbbq.com/event/ftm-private-11/
LOCATION:210 Burma Rd\, Oakland\, CA 94607\, USA
ORGANIZER;CN="jose@offthegridsf.com":MAILTO:jose@offthegridsf_com
END:VEVENT
BEGIN:VEVENT
DTSTART;TZID=Africa/Abidjan:20251203T163000
DTEND;TZID=Africa/Abidjan:20251203T193000
DTSTAMP:20260424T184330
CREATED:20250305T015116Z
LAST-MODIFIED:20250305T015116Z
UID:10000576-1764779400-1764790200@thebombziesbbq.com
SUMMARY:TikTok BOMB Din
DESCRIPTION:
URL:https://thebombziesbbq.com/event/tiktok-bomb-din-157/
ORGANIZER;CN="contracostahealth@cchealth.org":MAILTO:contracostahealth@cchealth_org
END:VEVENT
END:VCALENDAR