BEGIN:VCALENDAR
VERSION:2.0
PRODID:-//Bombzies - ECPv6.2.3//NONSGML v1.0//EN
CALSCALE:GREGORIAN
METHOD:PUBLISH
X-ORIGINAL-URL:https://thebombziesbbq.com
X-WR-CALDESC:Events for Bombzies
REFRESH-INTERVAL;VALUE=DURATION:PT1H
X-Robots-Tag:noindex
X-PUBLISHED-TTL:PT1H
BEGIN:VTIMEZONE
TZID:Africa/Abidjan
BEGIN:STANDARD
TZOFFSETFROM:+0000
TZOFFSETTO:+0000
TZNAME:GMT
DTSTART:20250101T000000
END:STANDARD
END:VTIMEZONE
BEGIN:VEVENT
DTSTART;VALUE=DATE:20251210
DTEND;VALUE=DATE:20251211
DTSTAMP:20260424T184333
CREATED:20251201T175155Z
LAST-MODIFIED:20251201T175155Z
UID:10000970-1765324800-1765411199@thebombziesbbq.com
SUMMARY:Catering with BAM @ Primos
DESCRIPTION:
URL:https://thebombziesbbq.com/event/catering-with-bam-primos/
ORGANIZER;CN="jose@offthegridsf.com":MAILTO:jose@offthegridsf_com
END:VEVENT
BEGIN:VEVENT
DTSTART;TZID=Africa/Abidjan:20251210T113000
DTEND;TZID=Africa/Abidjan:20251210T140000
DTSTAMP:20260424T184333
CREATED:20251208T195509Z
LAST-MODIFIED:20251208T195509Z
UID:10000976-1765366200-1765375200@thebombziesbbq.com
SUMMARY:Otg private
DESCRIPTION:
URL:https://thebombziesbbq.com/event/otg-private-27/
ORGANIZER;CN="jose@offthegridsf.com":MAILTO:jose@offthegridsf_com
END:VEVENT
BEGIN:VEVENT
DTSTART;TZID=Africa/Abidjan:20251210T163000
DTEND;TZID=Africa/Abidjan:20251210T193000
DTSTAMP:20260424T184333
CREATED:20250305T015117Z
LAST-MODIFIED:20250305T015117Z
UID:10000581-1765384200-1765395000@thebombziesbbq.com
SUMMARY:TikTok BOMB Din
DESCRIPTION:
URL:https://thebombziesbbq.com/event/tiktok-bomb-din-161/
ORGANIZER;CN="contracostahealth@cchealth.org":MAILTO:contracostahealth@cchealth_org
END:VEVENT
BEGIN:VEVENT
DTSTART;TZID=Africa/Abidjan:20251210T183000
DTEND;TZID=Africa/Abidjan:20251210T193000
DTSTAMP:20260424T184333
CREATED:20251211T024951Z
LAST-MODIFIED:20251211T024951Z
UID:10000981-1765391400-1765395000@thebombziesbbq.com
SUMMARY:Reservation at Limón
DESCRIPTION:To see detailed information for automatically created events like this one\, use the official Google Calendar app. https://g.co/calendar
URL:https://thebombziesbbq.com/event/reservation-at-limon/
LOCATION:Limón\, 2450 Valdez Street\, Oakland\, CA\, 94612\, US
ORGANIZER;CN="jose@offthegridsf.com":MAILTO:jose@offthegridsf_com
END:VEVENT
END:VCALENDAR