BEGIN:VCALENDAR
VERSION:2.0
PRODID:-//Bombzies - ECPv6.2.3//NONSGML v1.0//EN
CALSCALE:GREGORIAN
METHOD:PUBLISH
X-WR-CALNAME:Bombzies
X-ORIGINAL-URL:https://thebombziesbbq.com
X-WR-CALDESC:Events for Bombzies
REFRESH-INTERVAL;VALUE=DURATION:PT1H
X-Robots-Tag:noindex
X-PUBLISHED-TTL:PT1H
BEGIN:VTIMEZONE
TZID:Africa/Abidjan
BEGIN:STANDARD
TZOFFSETFROM:+0000
TZOFFSETTO:+0000
TZNAME:GMT
DTSTART:20250101T000000
END:STANDARD
END:VTIMEZONE
BEGIN:VEVENT
DTSTART;TZID=Africa/Abidjan:20251222T113000
DTEND;TZID=Africa/Abidjan:20251222T133000
DTSTAMP:20260424T184203
CREATED:20251218T224941Z
LAST-MODIFIED:20251218T224941Z
UID:10000987-1766403000-1766410200@thebombziesbbq.com
SUMMARY:Applied intuition
DESCRIPTION:
URL:https://thebombziesbbq.com/event/applied-intuition/
ORGANIZER;CN="jose@offthegridsf.com":MAILTO:jose@offthegridsf_com
END:VEVENT
BEGIN:VEVENT
DTSTART;TZID=Africa/Abidjan:20251222T163000
DTEND;TZID=Africa/Abidjan:20251222T193000
DTSTAMP:20260424T184203
CREATED:20250305T015118Z
LAST-MODIFIED:20250305T015118Z
UID:10000589-1766421000-1766431800@thebombziesbbq.com
SUMMARY:TikTok BOMB Din
DESCRIPTION:
URL:https://thebombziesbbq.com/event/tiktok-bomb-din-167/
ORGANIZER;CN="contracostahealth@cchealth.org":MAILTO:contracostahealth@cchealth_org
END:VEVENT
END:VCALENDAR