BEGIN:VCALENDAR
VERSION:2.0
PRODID:-//Bombzies - ECPv6.2.3//NONSGML v1.0//EN
CALSCALE:GREGORIAN
METHOD:PUBLISH
X-WR-CALNAME:Bombzies
X-ORIGINAL-URL:https://thebombziesbbq.com
X-WR-CALDESC:Events for Bombzies
REFRESH-INTERVAL;VALUE=DURATION:PT1H
X-Robots-Tag:noindex
X-PUBLISHED-TTL:PT1H
BEGIN:VTIMEZONE
TZID:Africa/Abidjan
BEGIN:STANDARD
TZOFFSETFROM:+0000
TZOFFSETTO:+0000
TZNAME:GMT
DTSTART:20260101T000000
END:STANDARD
END:VTIMEZONE
BEGIN:VEVENT
DTSTART;TZID=Africa/Abidjan:20260425T110000
DTEND;TZID=Africa/Abidjan:20260425T190000
DTSTAMP:20260425T014658
CREATED:20260413T054930Z
LAST-MODIFIED:20260413T054930Z
UID:10001134-1777114800-1777143600@thebombziesbbq.com
SUMMARY:Clayton Art and wine 3 trucks
DESCRIPTION:
URL:https://thebombziesbbq.com/event/clayton-art-and-wine-3-trucks/
ORGANIZER;CN="maya@foodfleet.com":MAILTO:maya@foodfleet_com
END:VEVENT
END:VCALENDAR