BEGIN:VCALENDAR
VERSION:2.0
PRODID:-//Bombzies - ECPv6.2.3//NONSGML v1.0//EN
CALSCALE:GREGORIAN
METHOD:PUBLISH
X-ORIGINAL-URL:https://thebombziesbbq.com
X-WR-CALDESC:Events for Bombzies
REFRESH-INTERVAL;VALUE=DURATION:PT1H
X-Robots-Tag:noindex
X-PUBLISHED-TTL:PT1H
BEGIN:VTIMEZONE
TZID:Africa/Abidjan
BEGIN:STANDARD
TZOFFSETFROM:+0000
TZOFFSETTO:+0000
TZNAME:GMT
DTSTART:20260101T000000
END:STANDARD
END:VTIMEZONE
BEGIN:VEVENT
DTSTART;TZID=Africa/Abidjan:20260619T150000
DTEND;TZID=Africa/Abidjan:20260619T173000
DTSTAMP:20260425T001015
CREATED:20250619T004917Z
LAST-MODIFIED:20250619T004917Z
UID:10000791-1781881200-1781890200@thebombziesbbq.com
SUMMARY:TikTok TeaTime
DESCRIPTION:
URL:https://thebombziesbbq.com/event/tiktok-teatime-68/
ORGANIZER;CN="contracostahealth@cchealth.org":MAILTO:contracostahealth@cchealth_org
END:VEVENT
BEGIN:VEVENT
DTSTART;TZID=Africa/Abidjan:20260619T170000
DTEND;TZID=Africa/Abidjan:20260619T210000
DTSTAMP:20260425T001015
CREATED:20260306T195425Z
LAST-MODIFIED:20260306T195425Z
UID:10001073-1781888400-1781902800@thebombziesbbq.com
SUMMARY:OMCA OTG
DESCRIPTION:
URL:https://thebombziesbbq.com/event/omca-otg-35/
LOCATION:1000 Oak St\, Oakland\, CA 94607\, USA
ORGANIZER;CN="maya@foodfleet.com":MAILTO:maya@foodfleet_com
END:VEVENT
END:VCALENDAR