BEGIN:VCALENDAR
VERSION:2.0
PRODID:-//Bombzies - ECPv6.2.3//NONSGML v1.0//EN
CALSCALE:GREGORIAN
METHOD:PUBLISH
X-WR-CALNAME:Bombzies
X-ORIGINAL-URL:https://thebombziesbbq.com
X-WR-CALDESC:Events for Bombzies
REFRESH-INTERVAL;VALUE=DURATION:PT1H
X-Robots-Tag:noindex
X-PUBLISHED-TTL:PT1H
BEGIN:VTIMEZONE
TZID:Africa/Abidjan
BEGIN:STANDARD
TZOFFSETFROM:+0000
TZOFFSETTO:+0000
TZNAME:GMT
DTSTART:20250101T000000
END:STANDARD
END:VTIMEZONE
BEGIN:VEVENT
DTSTART;TZID=Africa/Abidjan:20260410T110000
DTEND;TZID=Africa/Abidjan:20260410T130000
DTSTAMP:20260424T202133
CREATED:20260331T155110Z
LAST-MODIFIED:20260331T155110Z
UID:10001121-1775818800-1775826000@thebombziesbbq.com
SUMMARY:Otg private
DESCRIPTION:TRUCK SERVICEENTREE + SIDE ($15 per serving)100 SERVINGSPlease provide a menu of 3-4 options. Vegan/veg options are very important– Include a GF modificationYour Proposal \nGyro rice platters with side fresh spring salad\, house white sauce and hot sauceChicken (GF)LambFalafel (v\,ve)
URL:https://thebombziesbbq.com/event/otg-private-30/
LOCATION:74 Barnes Ct\, Stanford\, CA 94305\, USA
ORGANIZER;CN="maya@foodfleet.com":MAILTO:maya@foodfleet_com
END:VEVENT
BEGIN:VEVENT
DTSTART;TZID=Africa/Abidjan:20260409T174500
DTEND;TZID=Africa/Abidjan:20260409T191500
DTSTAMP:20260424T202133
CREATED:20260406T144915Z
LAST-MODIFIED:20260406T144915Z
UID:10001126-1775756700-1775762100@thebombziesbbq.com
SUMMARY:Otg private
DESCRIPTION:Serving Quantity: 90Korean BBQ Chicken BowlUltimate sweet and savory crowd pleaser made with soy sauce and garlicLemongrass Chicken BowlAromatic Citrus Herb Flavor of Lemongrass\, Soy Sauce\, Onions\, and Garlic to make this Vietnamese ClassicThai Coconut Curry Tofu Bowl (GF\, Vegan)Mild yellow curry\, lemongrass\, and fresh coconut creamAll items served over white rice with side veggie spring roll
URL:https://thebombziesbbq.com/event/otg-private-31/
LOCATION:420 S 1st St\, San Jose\, CA 95172\, USA
ORGANIZER;CN="maya@foodfleet.com":MAILTO:maya@foodfleet_com
END:VEVENT
BEGIN:VEVENT
DTSTART;TZID=Africa/Abidjan:20260409T170000
DTEND;TZID=Africa/Abidjan:20260409T210000
DTSTAMP:20260424T202133
CREATED:20260306T195424Z
LAST-MODIFIED:20260306T195424Z
UID:10001062-1775754000-1775768400@thebombziesbbq.com
SUMMARY:OTG P.HILL
DESCRIPTION:
URL:https://thebombziesbbq.com/event/otg-p-hill/
LOCATION:138 Trelany Rd\, Pleasant Hill\, CA 94523\, USA
ORGANIZER;CN="maya@foodfleet.com":MAILTO:maya@foodfleet_com
END:VEVENT
BEGIN:VEVENT
DTSTART;TZID=Africa/Abidjan:20260404T110000
DTEND;TZID=Africa/Abidjan:20260404T140000
DTSTAMP:20260424T202133
CREATED:20260306T195424Z
LAST-MODIFIED:20260306T195424Z
UID:10001061-1775300400-1775311200@thebombziesbbq.com
SUMMARY:Otg park Merced
DESCRIPTION:Full menu1800 minimum gurantee
URL:https://thebombziesbbq.com/event/otg-park-merced/
LOCATION:Parkmerced\, San Francisco\, CA 94132\, USA
ORGANIZER;CN="maya@foodfleet.com":MAILTO:maya@foodfleet_com
END:VEVENT
BEGIN:VEVENT
DTSTART;TZID=Africa/Abidjan:20260318T183000
DTEND;TZID=Africa/Abidjan:20260318T193000
DTSTAMP:20260424T202133
CREATED:20260306T195424Z
LAST-MODIFIED:20260306T195424Z
UID:10001060-1773858600-1773862200@thebombziesbbq.com
SUMMARY:Applied intuition
DESCRIPTION:100Bombzies BBQKorean BBQ Chicken Rice Bowl The ultimate sweet and savory crowd pleaser made with soy sauce\, rice wine\, and garlic served over jasmine rice(Contains sesame\, soy) \nVietnamese Lemongrass BBQ Chicken Rice BowlChicken marinated in lemongrass\, soy sauce\, onions\, and garlic served over jasmine rice(Contains sesame\, soy) \nCoconut Thai Curry Tofu Rice BowlMild yellow curry\, lemongrass\, & fresh coconut cream served over jasmine riceDF\, GF\, V\, VE \nSideKimchi salad
URL:https://thebombziesbbq.com/event/applied-intuition-2/
LOCATION:600 W California Ave\, Sunnyvale\, CA 94086\, USA
ORGANIZER;CN="maya@foodfleet.com":MAILTO:maya@foodfleet_com
END:VEVENT
BEGIN:VEVENT
DTSTART;VALUE=DATE:20260307
DTEND;VALUE=DATE:20260308
DTSTAMP:20260424T202133
CREATED:20260219T055017Z
LAST-MODIFIED:20260219T055017Z
UID:10001047-1772841600-1772927999@thebombziesbbq.com
SUMMARY:SUHOOR FEST
DESCRIPTION:
URL:https://thebombziesbbq.com/event/suhoor-fest/
ORGANIZER;CN="maya@foodfleet.com":MAILTO:maya@foodfleet_com
END:VEVENT
BEGIN:VEVENT
DTSTART;TZID=Africa/Abidjan:20260304T153000
DTEND;TZID=Africa/Abidjan:20260304T183000
DTSTAMP:20260424T202133
CREATED:20260304T015420Z
LAST-MODIFIED:20260304T015420Z
UID:10001058-1772638200-1772649000@thebombziesbbq.com
SUMMARY:TikTok BOMB Din
DESCRIPTION:
URL:https://thebombziesbbq.com/event/tiktok-bomb-din-420/
ORGANIZER;CN="maya@foodfleet.com":MAILTO:maya@foodfleet_com
END:VEVENT
BEGIN:VEVENT
DTSTART;TZID=Africa/Abidjan:20260219T110000
DTEND;TZID=Africa/Abidjan:20260219T130000
DTSTAMP:20260424T202133
CREATED:20260211T155139Z
LAST-MODIFIED:20260211T155139Z
UID:10001040-1771498800-1771506000@thebombziesbbq.com
SUMMARY:Archer Aviation
DESCRIPTION:QtyDescriptionPriceTotal125Bombzies BBQCoconut Thai Curry Tofu (16 oz\, Vegan\, Vegetarian)Thai Coconut Curry Tofu over jasmine rice\, served with a fresh spring salad and kimchi. Served with a kimchi salad on the side. \nChicken Teriyaki BBQ (16 oz)Teriyaki BBQ chicken over jasmine rice\, served with a fresh spring salad and kimchi. \nKorean BBQ Chicken (16 oz)Korean BBQ chicken over jasmine rice\, accompanied by a fresh spring salad and kimchi.
URL:https://thebombziesbbq.com/event/archer-aviation-2/
LOCATION:77 Rio Robles\, San Jose\, CA 95134\, USA
ORGANIZER;CN="maya@foodfleet.com":MAILTO:maya@foodfleet_com
END:VEVENT
BEGIN:VEVENT
DTSTART;TZID=Africa/Abidjan:20260204T090000
DTEND;TZID=Africa/Abidjan:20260204T130000
DTSTAMP:20260424T202133
CREATED:20260201T194910Z
LAST-MODIFIED:20260201T194910Z
UID:10001031-1770195600-1770210000@thebombziesbbq.com
SUMMARY:OTG PRIVATE
DESCRIPTION:
URL:https://thebombziesbbq.com/event/otg-private-28/
ORGANIZER;CN="maya@foodfleet.com":MAILTO:maya@foodfleet_com
END:VEVENT
BEGIN:VEVENT
DTSTART;TZID=Africa/Abidjan:20260129T160000
DTEND;TZID=Africa/Abidjan:20260129T180000
DTSTAMP:20260424T202133
CREATED:20260122T180108Z
LAST-MODIFIED:20260122T180108Z
UID:10001024-1769702400-1769709600@thebombziesbbq.com
SUMMARY:Google pop up dinner
DESCRIPTION:125Bombzies BBQ (PM Shift)Meatballs and RiceHawaiian meatball skewers/plant base meatball with Jasmine rice. \n$9.00$1\,125.00 \nEvent Name: Street KiosksEvent Location: 2000 N. Shoreline Blvd.\, Mountain View\, CA 94043Food Fleet Event Type: Catering Number of Attendees: Two thousand (2000)Number of Partners Desired: Two (2) per service time \nShift 2 Load in Time: 3:00 pm Shift 2 Event Time: 4:00 – 6:00 pm Guaranteed Portions per Vendor: One hundred twenty five (125)Budget: Specified below.Meal Type: Small bites/tapas portions.  \nParking Location and Load-in Instructions: Event location is the plaza area outside of Gradient Canopy. Map TBD. \nFOOD
URL:https://thebombziesbbq.com/event/google-pop-up-dinner-2/
LOCATION:2000 N Shoreline Blvd\, Mountain View\, CA 94043\, USA
ORGANIZER;CN="maya@foodfleet.com":MAILTO:maya@foodfleet_com
END:VEVENT
BEGIN:VEVENT
DTSTART;TZID=Africa/Abidjan:20260127T113000
DTEND;TZID=Africa/Abidjan:20260127T133000
DTSTAMP:20260424T202133
CREATED:20260122T180108Z
LAST-MODIFIED:20260122T180108Z
UID:10001023-1769513400-1769520600@thebombziesbbq.com
SUMMARY:Google pop up lunch
DESCRIPTION:125Bombzies BBQ (AM Shift)Mongolian Beef with Sesame & Jasmine RiceStir-fried beef in a rich ginger-soy sauce finished with sesame. \n$9.00$1\,125.00 \nEvent Name: Street KiosksEvent Location: 2000 N. Shoreline Blvd.\, Mountain View\, CA 94043Food Fleet Event Type: Catering Number of Attendees: Two thousand (2000)Number of Partners Desired: Two (2) per service timeShift 1 Load in Time: 10:30 am  \nShift 1 Event Time: 11:30 am – 1:30 pm \nGuaranteed Portions per Vendor: One hundred twenty five (125)Budget: Specified below.Meal Type: Small bites/tapas portions.  \nParking Location and Load-in Instructions: Event location is the plaza area outside of Gradient Canopy. Map TBD. \nFOOD
URL:https://thebombziesbbq.com/event/google-pop-up-lunch-2/
LOCATION:2000 N Shoreline Blvd\, Mountain View\, CA 94043\, USA
ORGANIZER;CN="maya@foodfleet.com":MAILTO:maya@foodfleet_com
END:VEVENT
BEGIN:VEVENT
DTSTART;TZID=Africa/Abidjan:20260126T160000
DTEND;TZID=Africa/Abidjan:20260126T180000
DTSTAMP:20260424T202133
CREATED:20260122T180108Z
LAST-MODIFIED:20260122T180108Z
UID:10001022-1769443200-1769450400@thebombziesbbq.com
SUMMARY:Google pop up dinner
DESCRIPTION:Total125Bombzies BBQ (PM Shift)Coconut Thai Curry Tofu Rice BowlCreamy coconut curry with tender tofu over fragrant jasmine rice. \n$9.00$1\,125.00 \nEvent Name: Street KiosksEvent Location: 2000 N. Shoreline Blvd.\, Mountain View\, CA 94043Food Fleet Event Type: Catering Number of Attendees: Two thousand (2000)Number of Partners Desired: Two (2) per service time \nShift 2 Load in Time: 3:00 pm Shift 2 Event Time: 4:00 – 6:00 pm Guaranteed Portions per Vendor: One hundred twenty five (125)Budget: Specified below.Meal Type: Small bites/tapas portions.  \nParking Location and Load-in Instructions: Event location is the plaza area outside of Gradient Canopy. Map TBD. \nFOOD
URL:https://thebombziesbbq.com/event/google-pop-up-dinner/
LOCATION:2000 N Shoreline Blvd\, Mountain View\, CA 94043\, USA
ORGANIZER;CN="maya@foodfleet.com":MAILTO:maya@foodfleet_com
END:VEVENT
BEGIN:VEVENT
DTSTART;TZID=Africa/Abidjan:20260126T113000
DTEND;TZID=Africa/Abidjan:20260126T133000
DTSTAMP:20260424T202133
CREATED:20260122T180108Z
LAST-MODIFIED:20260122T180108Z
UID:10001021-1769427000-1769434200@thebombziesbbq.com
SUMMARY:Google pop up lunch
DESCRIPTION:125Bombzies BBQ (AM Shift)Korean Chicken Rice BowlSavory soy-garlic glazed chicken over steamed jasmine rice. \n$9.00$1\,125.00 \nEvent Name: Street KiosksEvent Location: 2000 N. Shoreline Blvd.\, Mountain View\, CA 94043Food Fleet Event Type: Catering Number of Attendees: Two thousand (2000)Number of Partners Desired: Two (2) per service timeShift 1 Load in Time: 10:30 am  \nShift 1 Event Time: 11:30 am – 1:30 pm \nGuaranteed Portions per Vendor: One hundred twenty five (125)Budget: Specified below.Meal Type: Small bites/tapas portions.  \nParking Location and Load-in Instructions: Event location is the plaza area outside of Gradient Canopy. Map TBD. \nFOOD
URL:https://thebombziesbbq.com/event/google-pop-up-lunch/
LOCATION:2000 N Shoreline Blvd\, Mountain View\, CA 94043\, USA
ORGANIZER;CN="maya@foodfleet.com":MAILTO:maya@foodfleet_com
END:VEVENT
BEGIN:VEVENT
DTSTART;TZID=Africa/Abidjan:20260122T110000
DTEND;TZID=Africa/Abidjan:20260122T130000
DTSTAMP:20260424T202133
CREATED:20260107T235054Z
LAST-MODIFIED:20260107T235054Z
UID:10001006-1769079600-1769086800@thebombziesbbq.com
SUMMARY:Archer Aviation
DESCRIPTION:QtyDescriptionPriceTotal125Bombzies BBQCoconut Thai Curry Tofu (16 oz\, Vegan\, Vegetarian)Thai Coconut Curry Tofu over jasmine rice\, served with a fresh spring salad and kimchi. Served with a kimchi salad on the side. \nChicken Teriyaki BBQ (16 oz)Teriyaki BBQ chicken over jasmine rice\, served with a fresh spring salad and kimchi. \nKorean BBQ Chicken (16 oz)Korean BBQ chicken over jasmine rice\, accompanied by a fresh spring salad and kimchi.
URL:https://thebombziesbbq.com/event/archer-aviation/
LOCATION:77 Rio Robles\, San Jose\, CA 95134\, USA
ORGANIZER;CN="maya@foodfleet.com":MAILTO:maya@foodfleet_com
END:VEVENT
BEGIN:VEVENT
DTSTART;TZID=Africa/Abidjan:20260121T110000
DTEND;TZID=Africa/Abidjan:20260121T133000
DTSTAMP:20260424T202133
CREATED:20260107T235054Z
LAST-MODIFIED:20260107T235054Z
UID:10001005-1768993200-1769002200@thebombziesbbq.com
SUMMARY:SAP Palo Alto
DESCRIPTION:1Bombzies BBQAll meals are $15 all inclusive of taxes and fees. \nKorean BBQ Chicken (16 oz)Korean BBQ Chicken over jasmine rice\, accompanied by a fresh spring salad and kimchi. \nChicken Teriyaki BBQ (16 oz)Teriyaki BBQ chicken over jasmine rice\, served with a fresh spring salad and kimchi. \nKorean BBQ Tofu (16 oz)Korean BBQ tofu over jasmine rice\, accompanied by a fresh spring salad and kimchi.$1\,500.00$1\,500.00
URL:https://thebombziesbbq.com/event/sap-palo-alto/
LOCATION:3380 Coyote Hill Rd\, Palo Alto\, CA 94304\, USA
ORGANIZER;CN="maya@foodfleet.com":MAILTO:maya@foodfleet_com
END:VEVENT
BEGIN:VEVENT
DTSTART;TZID=Africa/Abidjan:20260114T110000
DTEND;TZID=Africa/Abidjan:20260114T140000
DTSTAMP:20260424T202133
CREATED:20260112T045757Z
LAST-MODIFIED:20260112T045757Z
UID:10001010-1768388400-1768399200@thebombziesbbq.com
SUMMARY:Roblox
DESCRIPTION:250Shrimp and Egg Hakka Noodles and BolaniShrimp and egg stir-fried with hakka noodles\, bell peppers\, cabbage\, ginger\, Sriracha\, and soy sauce. Served with a side of Bolani spicy potato filled flatbread.–        (Major Allergens: Egg\, Gluten\, Soy\, Wheat) \nTofu Hakka Noodles and Bolani (Vegan)Tofu stir-fried with hakka noodles\, bell peppers\, cabbage\, ginger\, Sriracha\, and soy sauce. Served with a side of Bolani spicy potato filled flatbread.–        (Major Allergens: Gluten\, Soy\, Wheat) \nQtyDescriptionPriceTotalTRUCK LUNCH SERVICE MENUImportant Notes:– Vendor partner is required to print out and display the marketing menu flyer provided by Food Fleet for the scheduled service.– Vendor partner is responsible for providing compostable plates\, napkins\, and utensils.– Each meal must have a minimum 5oz of protein.– Please arrive on-site with a filled out time and temperature log! You will have to report this to the client and Food Fleet at the end of service.– Please arrive on-site with up to 50 additional units for overages!
URL:https://thebombziesbbq.com/event/roblox-2/
LOCATION:2850 S Delaware St\, San Mateo\, CA 94403\, USA
ORGANIZER;CN="maya@foodfleet.com":MAILTO:maya@foodfleet_com
END:VEVENT
BEGIN:VEVENT
DTSTART;TZID=Africa/Abidjan:20260112T110000
DTEND;TZID=Africa/Abidjan:20260112T120000
DTSTAMP:20260424T202133
CREATED:20260107T235054Z
LAST-MODIFIED:20260107T235054Z
UID:10001004-1768215600-1768219200@thebombziesbbq.com
SUMMARY:SCC inspection
DESCRIPTION:
URL:https://thebombziesbbq.com/event/scc-inspection/
ORGANIZER;CN="maya@foodfleet.com":MAILTO:maya@foodfleet_com
END:VEVENT
BEGIN:VEVENT
DTSTART;TZID=Africa/Abidjan:20260108T110000
DTEND;TZID=Africa/Abidjan:20260108T140000
DTSTAMP:20260424T202133
CREATED:20260107T235054Z
LAST-MODIFIED:20260107T235054Z
UID:10001003-1767870000-1767880800@thebombziesbbq.com
SUMMARY:Roblox
DESCRIPTION:250 50 pre approved \nKorean chickenTeriyaki tofuRiceSaladCucumbersKimchi
URL:https://thebombziesbbq.com/event/roblox/
LOCATION:2850 S Delaware St\, San Mateo\, CA 94403\, USA
ORGANIZER;CN="maya@foodfleet.com":MAILTO:maya@foodfleet_com
END:VEVENT
BEGIN:VEVENT
DTSTART;TZID=Africa/Abidjan:20251220T093000
DTEND;TZID=Africa/Abidjan:20251220T103000
DTSTAMP:20260424T202133
CREATED:20251219T185435Z
LAST-MODIFIED:20251219T185435Z
UID:10000988-1766223000-1766226600@thebombziesbbq.com
SUMMARY:New ByteDance/TikTok Food Safety Log
DESCRIPTION:________________________________________________________________________________Microsoft Teams Need help?Join the meeting nowMeeting ID: 282 861 978 302 03Passcode: hA2pN7Je________________________________For organizers: Meeting options________________________________________________________________________________
URL:https://thebombziesbbq.com/event/new-bytedance-tiktok-food-safety-log/
LOCATION:Microsoft Teams Meeting
ORGANIZER;CN="maya@foodfleet.com":MAILTO:maya@foodfleet_com
END:VEVENT
END:VCALENDAR